BEGIN:VCALENDAR
VERSION:2.0
PRODID:-//Squarespace Inc/Squarespace 6//v6//EN
BEGIN:VEVENT
UID:5dc89805df818a4a7443e849@squarespace.com
DTSTAMP:20191111T135747Z
DTSTART:20191206T010000Z
DTEND:20191206T023000Z
SUMMARY:December End of Year Catch Up
END:VEVENT
END:VCALENDAR
