BEGIN:VCALENDAR
VERSION:2.0
PRODID:-//Squarespace Inc/Squarespace 6//v6//EN
BEGIN:VEVENT
UID:5dc967e8e8290d783000568d@squarespace.com
DTSTAMP:20191111T135639Z
DTSTART:20191205T233000Z
DTEND:20191206T010000Z
SUMMARY:New &amp\; Expecting Parent Workshop
END:VEVENT
END:VCALENDAR
